BEGIN:VCALENDAR
VERSION:2.0
PRODID:-//K-Syran.com - ECPv6.15.17.1//NONSGML v1.0//EN
CALSCALE:GREGORIAN
METHOD:PUBLISH
X-ORIGINAL-URL:https://www.k-syran.com
X-WR-CALDESC:Events for K-Syran.com
REFRESH-INTERVAL;VALUE=DURATION:PT1H
X-Robots-Tag:noindex
X-PUBLISHED-TTL:PT1H
BEGIN:VTIMEZONE
TZID:UTC
BEGIN:STANDARD
TZOFFSETFROM:+0000
TZOFFSETTO:+0000
TZNAME:UTC
DTSTART:20210101T000000
END:STANDARD
END:VTIMEZONE
BEGIN:VEVENT
DTSTART;TZID=UTC:20220615T080000
DTEND;TZID=UTC:20230615T170000
DTSTAMP:20260422T004424
CREATED:20230326T080725Z
LAST-MODIFIED:20230309T180309Z
UID:435-1655280000-1686848400@www.k-syran.com
SUMMARY:Hoxton Underbelly
DESCRIPTION:June 15th\nWeds August 17th
URL:https://www.k-syran.com/event/hoxton-underbelly/
END:VEVENT
BEGIN:VEVENT
DTSTART;TZID=UTC:20220709T080000
DTEND;TZID=UTC:20220709T210000
DTSTAMP:20260422T004424
CREATED:20230609T140043Z
LAST-MODIFIED:20230309T175823Z
UID:420-1657353600-1657400400@www.k-syran.com
SUMMARY:Percys
DESCRIPTION:
URL:https://www.k-syran.com/event/percys/
LOCATION:percys\, watergate street\, shropshire\, SY13 1DW\, United Kingdom
END:VEVENT
END:VCALENDAR