BEGIN:VCALENDAR
VERSION:2.0
PRODID:-//K-Syran.com - ECPv6.15.17.1//NONSGML v1.0//EN
CALSCALE:GREGORIAN
METHOD:PUBLISH
X-WR-CALNAME:K-Syran.com
X-ORIGINAL-URL:https://www.k-syran.com
X-WR-CALDESC:Events for K-Syran.com
REFRESH-INTERVAL;VALUE=DURATION:PT1H
X-Robots-Tag:noindex
X-PUBLISHED-TTL:PT1H
BEGIN:VTIMEZONE
TZID:UTC
BEGIN:STANDARD
TZOFFSETFROM:+0000
TZOFFSETTO:+0000
TZNAME:UTC
DTSTART:20210101T000000
END:STANDARD
END:VTIMEZONE
BEGIN:VEVENT
DTSTART;VALUE=DATE:20220602
DTEND;VALUE=DATE:20220603
DTSTAMP:20260421T231028
CREATED:20220510T063738Z
LAST-MODIFIED:20220510T063738Z
UID:437-1654128000-1654214399@www.k-syran.com
SUMMARY:Golf Club De Geneve
DESCRIPTION:
URL:https://www.k-syran.com/event/golf-club-de-geneve/
END:VEVENT
BEGIN:VEVENT
DTSTART;VALUE=DATE:20220611
DTEND;VALUE=DATE:20220612
DTSTAMP:20260421T231028
CREATED:20230908T100553Z
LAST-MODIFIED:20230309T175815Z
UID:402-1654905600-1654991999@www.k-syran.com
SUMMARY:Canterbury pride
DESCRIPTION:Canterbury pride
URL:https://www.k-syran.com/event/canterbury-pride/
LOCATION:Canterbury\, United Kingdom
END:VEVENT
BEGIN:VEVENT
DTSTART;TZID=UTC:20220615T080000
DTEND;TZID=UTC:20230615T170000
DTSTAMP:20260421T231028
CREATED:20230326T080725Z
LAST-MODIFIED:20230309T180309Z
UID:435-1655280000-1686848400@www.k-syran.com
SUMMARY:Hoxton Underbelly
DESCRIPTION:June 15th\nWeds August 17th
URL:https://www.k-syran.com/event/hoxton-underbelly/
END:VEVENT
END:VCALENDAR